BEGIN:VCALENDAR
VERSION:2.0
PRODID:icalendar-ruby
CALSCALE:GREGORIAN
METHOD:PUBLISH
BEGIN:VEVENT
DTSTAMP:20260423T075632Z
UID:7-908520@remnantreformedchurch.org
DTSTART:20260906T210000Z
DTEND:20260906T223000Z
CLASS:PUBLIC
CREATED:20260422T222604
DESCRIPTION:
LAST-MODIFIED:20260422T222604
LOCATION:
SUMMARY:Sunday Worship (evening)
URL;VALUE=URI:https://www.remnantreformedchurch.org/events/sunday-worship-e
 vening--7/2026-09-06
END:VEVENT
END:VCALENDAR
