BEGIN:VCALENDAR
VERSION:2.0
PRODID:icalendar-ruby
CALSCALE:GREGORIAN
METHOD:PUBLISH
BEGIN:VEVENT
DTSTAMP:20260423T093610Z
UID:7-908521@remnantreformedchurch.org
DTSTART:20260913T210000Z
DTEND:20260913T223000Z
CLASS:PUBLIC
CREATED:20260422T222604
DESCRIPTION:
LAST-MODIFIED:20260422T222604
LOCATION:
SUMMARY:Sunday Worship (evening)
URL;VALUE=URI:https://www.remnantreformedchurch.org/events/sunday-worship-e
 vening--7/2026-09-13
END:VEVENT
END:VCALENDAR
