BEGIN:VCALENDAR
VERSION:2.0
PRODID:icalendar-ruby
CALSCALE:GREGORIAN
METHOD:PUBLISH
BEGIN:VEVENT
DTSTAMP:20260423T135925Z
UID:7-908858@remnantreformedchurch.org
DTSTART:20261004T210000Z
DTEND:20261004T223000Z
CLASS:PUBLIC
CREATED:20260423T075604
DESCRIPTION:
LAST-MODIFIED:20260423T075604
LOCATION:
SUMMARY:Sunday Worship (evening)
URL;VALUE=URI:https://www.remnantreformedchurch.org/events/sunday-worship-e
 vening--7/2026-10-04
END:VEVENT
END:VCALENDAR
