BEGIN:VCALENDAR
VERSION:2.0
PRODID:icalendar-ruby
CALSCALE:GREGORIAN
METHOD:PUBLISH
BEGIN:VEVENT
DTSTAMP:20260423T201622Z
UID:7-909530@remnantreformedchurch.org
DTSTART:20261101T220000Z
DTEND:20261101T233000Z
CLASS:PUBLIC
CREATED:20260423T134445
DESCRIPTION:
LAST-MODIFIED:20260423T134445
LOCATION:
SUMMARY:Sunday Worship (evening)
URL;VALUE=URI:https://www.remnantreformedchurch.org/events/sunday-worship-e
 vening--7/2026-11-01
END:VEVENT
END:VCALENDAR
